BEGIN:VCALENDAR
VERSION:2.0
PRODID:-//Flowarts Schweiz - ECPv6.15.20//NONSGML v1.0//EN
CALSCALE:GREGORIAN
METHOD:PUBLISH
X-WR-CALNAME:Flowarts Schweiz
X-ORIGINAL-URL:https://flowarts.ch
X-WR-CALDESC:Veranstaltungen im Flowarts Schweiz
REFRESH-INTERVAL;VALUE=DURATION:PT1H
X-Robots-Tag:noindex
X-PUBLISHED-TTL:PT1H
BEGIN:VTIMEZONE
TZID:Europe/Zurich
BEGIN:DAYLIGHT
TZOFFSETFROM:+0100
TZOFFSETTO:+0200
TZNAME:CEST
DTSTART:20240331T010000
END:DAYLIGHT
BEGIN:STANDARD
TZOFFSETFROM:+0200
TZOFFSETTO:+0100
TZNAME:CET
DTSTART:20241027T010000
END:STANDARD
BEGIN:DAYLIGHT
TZOFFSETFROM:+0100
TZOFFSETTO:+0200
TZNAME:CEST
DTSTART:20250330T010000
END:DAYLIGHT
BEGIN:STANDARD
TZOFFSETFROM:+0200
TZOFFSETTO:+0100
TZNAME:CET
DTSTART:20251026T010000
END:STANDARD
BEGIN:DAYLIGHT
TZOFFSETFROM:+0100
TZOFFSETTO:+0200
TZNAME:CEST
DTSTART:20260329T010000
END:DAYLIGHT
BEGIN:STANDARD
TZOFFSETFROM:+0200
TZOFFSETTO:+0100
TZNAME:CET
DTSTART:20261025T010000
END:STANDARD
END:VTIMEZONE
BEGIN:VEVENT
DTSTART;TZID=Europe/Zurich:20250606T080000
DTEND;TZID=Europe/Zurich:20250609T170000
DTSTAMP:20260423T002800
CREATED:20241120T092547Z
LAST-MODIFIED:20250110T085906Z
UID:1647-1749196800-1749488400@flowarts.ch
SUMMARY:Swiss FlowArts Gathering 2025
DESCRIPTION:Liebe Jongleure\, Flowmies\, Akrobaten und Artisten\, \n\n\n\nwir laden euch ganz herzlich zum diesjährigen Swiss Flowarts Gathering ein! \n\n\n\nDas Swiss Flowarts Gathering ist ein Zusammentreffen für alle Bewegungsbegeisterten\, sei es Tanz\, Flow\, Jonglage oder sonstige Formen der Bewegungskunst. Offen für alle Niveaus kreieren wir in vier Tagen unser Gathering zusammen\, teilen unsere Erkenntnisse und unser Können und kreieren Neues. Workshops sowie Galashow entstehen mit eurer Mithilfe sowie auch das vegetarische Essen oder der Aufbau und was sonst alles so anfällt.Firespace und Musikanlage sowie genügend Petrol organisieren wir. \n\n\n\nMehr Infos zum Swiss Flowarts Gathering \n\n\n\nHier könnt Ihr eure Tickets holen und eure Anmeldung machen.
URL:https://flowarts.ch/event/swiss-flowarts-gathering/
CATEGORIES:Festival,Workshop
ATTACH;FMTTYPE=image/png:https://flowarts.ch/wp-content/uploads/2024/01/Logo-1.png
END:VEVENT
END:VCALENDAR